BEGIN:VCALENDAR
VERSION:2.0
PRODID:-//Shiloh Manor Farm - ECPv6.15.14//NONSGML v1.0//EN
CALSCALE:GREGORIAN
METHOD:PUBLISH
X-ORIGINAL-URL:https://shiloh-manor.com
X-WR-CALDESC:Events for Shiloh Manor Farm
REFRESH-INTERVAL;VALUE=DURATION:PT1H
X-Robots-Tag:noindex
X-PUBLISHED-TTL:PT1H
BEGIN:VTIMEZONE
TZID:UTC
BEGIN:STANDARD
TZOFFSETFROM:+0000
TZOFFSETTO:+0000
TZNAME:UTC
DTSTART:20250101T000000
END:STANDARD
END:VTIMEZONE
BEGIN:VEVENT
DTSTART;TZID=UTC:20260228T180000
DTEND;TZID=UTC:20260228T210000
DTSTAMP:20260421T170531
CREATED:20260126T184449Z
LAST-MODIFIED:20260126T184449Z
UID:3839-1772301600-1772312400@shiloh-manor.com
SUMMARY:Music For Two Harpsichords
DESCRIPTION:The Wheatland Concert Series Presents\n\n\n\n\n\n\nMusic For Two Harpsichords\n\n\n\n\n\n\nSaturday\, February 28th 2026 Starting at 6:00 pm\n\n\nThe Wheatland Concert Series launches its 5th season with a rare and elegant evening of music for two harpsichords\, featuring works by Johann Sebastian Bach and his sons. Performed by acclaimed Peabody Conservatory professors Paula Maust and Mark Janello\, this one-of-a-kind concert is paired with a refined French dinner and imported wines for an unforgettable cultural experience.
URL:https://shiloh-manor.com/event/music-for-two-harpsichords/
CATEGORIES:Public Events
ATTACH;FMTTYPE=image/png:https://shiloh-manor.com/wp-content/uploads/2026/01/event-photo.png
END:VEVENT
END:VCALENDAR