BEGIN:VCALENDAR
VERSION:2.0
PRODID:-//Shiloh Manor Farm - ECPv6.15.14//NONSGML v1.0//EN
CALSCALE:GREGORIAN
METHOD:PUBLISH
X-ORIGINAL-URL:https://shiloh-manor.com
X-WR-CALDESC:Events for Shiloh Manor Farm
REFRESH-INTERVAL;VALUE=DURATION:PT1H
X-Robots-Tag:noindex
X-PUBLISHED-TTL:PT1H
BEGIN:VTIMEZONE
TZID:UTC
BEGIN:STANDARD
TZOFFSETFROM:+0000
TZOFFSETTO:+0000
TZNAME:UTC
DTSTART:20200101T000000
END:STANDARD
END:VTIMEZONE
BEGIN:VEVENT
DTSTART;TZID=UTC:20221029T180000
DTEND;TZID=UTC:20221029T180000
DTSTAMP:20260419T172032
CREATED:20220913T133622Z
LAST-MODIFIED:20221002T192014Z
UID:1687-1667066400-1667066400@shiloh-manor.com
SUMMARY:Baroque Chamber Music & Traditional French Hunt Dinner! October 29th @ 6:00 pm
DESCRIPTION:The days are getting shorter\, and the leaves are beginning to drop from the trees.  What better way to warm the heart than an elegant evening filled with the Harpsichord and Flute Sonatas of George Frederick Handel!   The Wheatland Concert Series at Shiloh Manor Farm will hold its Autumn baroque chamber music recital and dinner on October 29\, 2022\, at 6:00 pm at 14781 Berlin Turnpike\, Purcellville VA.   Seating is limited!   Please join us for an evening of beautiful music\, exquisite food and the company of neighbors and friends! \nMore Information can be found at HERE
URL:https://shiloh-manor.com/event/baroque-chamber-music-traditional-french-hunt-dinner-october-29th-600-pm/
LOCATION:Shiloh Manor Farm\, 14781 Berlin Turnpike\, Purcellville\, VA\, 20132\, United States
CATEGORIES:Public Events,Venue Availability
END:VEVENT
BEGIN:VEVENT
DTSTART;TZID=UTC:20220402T200000
DTEND;TZID=UTC:20220402T220000
DTSTAMP:20260419T172032
CREATED:20220214T154229Z
LAST-MODIFIED:20220214T172137Z
UID:1481-1648929600-1648936800@shiloh-manor.com
SUMMARY:Baroque Chamber Music & Traditional French Dinner!
DESCRIPTION:The Wheatland Concert Series at Shiloh Manor Farm will hold its third quarterly baroque chamber music recital and dinner on April 2\, 2022 at 8:00 pm at 14781 Berlin Turnpike\, Purcellville VA.  Tickets are $70 each. \nClick HERE to purchase your tickets!
URL:https://shiloh-manor.com/event/baroque-chamber-music-traditional-french-dinner/
LOCATION:Shiloh Manor Farm\, 14781 Berlin Turnpike\, Purcellville\, VA\, 20132\, United States
CATEGORIES:Public Events,Venue Availability
END:VEVENT
BEGIN:VEVENT
DTSTART;TZID=UTC:20211120T200000
DTEND;TZID=UTC:20211120T210000
DTSTAMP:20260419T172032
CREATED:20211002T230700Z
LAST-MODIFIED:20211002T230753Z
UID:1293-1637438400-1637442000@shiloh-manor.com
SUMMARY:The Wheatland Concert Series at Shiloh Manor Farm
DESCRIPTION:The Wheatland Concert Series at Shiloh Manor Farm will hold its second quarterly baroque chamber music recital on November 20\, 2021 at 8:00 pm at 14781 Berlin Turnpike\, Purcellville VA.  Tickets are $70 each   Seating is limited
URL:https://shiloh-manor.com/event/the-wheatland-concert-series-at-shiloh-manor-farm-2/
LOCATION:Shiloh Manor Farm\, 14781 Berlin Turnpike\, Purcellville\, VA\, 20132\, United States
CATEGORIES:Public Events,Venue Availability
END:VEVENT
BEGIN:VEVENT
DTSTART;VALUE=DATE:20210826
DTEND;VALUE=DATE:20210827
DTSTAMP:20260419T172032
CREATED:20210617T192355Z
LAST-MODIFIED:20210617T192355Z
UID:1154-1629936000-1630022399@shiloh-manor.com
SUMMARY:Private Event
DESCRIPTION:Venue Leased for Private Event
URL:https://shiloh-manor.com/event/private-event-5/
LOCATION:VA
CATEGORIES:Venue Availability
END:VEVENT
BEGIN:VEVENT
DTSTART;VALUE=DATE:20210802
DTEND;VALUE=DATE:20210803
DTSTAMP:20260419T172032
CREATED:20210617T192244Z
LAST-MODIFIED:20210617T192328Z
UID:1150-1627862400-1627948799@shiloh-manor.com
SUMMARY:Private Event
DESCRIPTION:Venue Leased for Private Event
URL:https://shiloh-manor.com/event/private-event-3/
LOCATION:VA
CATEGORIES:Venue Availability
END:VEVENT
BEGIN:VEVENT
DTSTART;VALUE=DATE:20210725
DTEND;VALUE=DATE:20210726
DTSTAMP:20260419T172032
CREATED:20210617T192308Z
LAST-MODIFIED:20210617T192308Z
UID:1152-1627171200-1627257599@shiloh-manor.com
SUMMARY:Private Event
DESCRIPTION:Venue Leased for Private Event
URL:https://shiloh-manor.com/event/private-event-4/
LOCATION:VA
CATEGORIES:Venue Availability
END:VEVENT
BEGIN:VEVENT
DTSTART;TZID=UTC:20210724T200000
DTEND;TZID=UTC:20210724T210000
DTSTAMP:20260419T172032
CREATED:20210527T151419Z
LAST-MODIFIED:20210617T191707Z
UID:1083-1627156800-1627160400@shiloh-manor.com
SUMMARY:The Wheatland Concert Series at Shiloh Manor Farm
DESCRIPTION:The Wheatland Concert Series at Shiloh Manor Farm is offering an evening of summer themed gems by Handel\, Vivaldi\, Boyce and Pachelbel on July 24 at 8:00 pm\, featuring internationally renowned musicians and catered patisserie in the elegantly renovated 230-year-old barn at Shiloh Manor Farm. Seating is limited
URL:https://shiloh-manor.com/event/the-wheatland-concert-series-at-shiloh-manor-farm/
LOCATION:Shiloh Manor Farm\, 14781 Berlin Turnpike\, Purcellville\, VA\, 20132\, United States
CATEGORIES:Public Events,Venue Availability
END:VEVENT
BEGIN:VEVENT
DTSTART;VALUE=DATE:20210706
DTEND;VALUE=DATE:20210707
DTSTAMP:20260419T172032
CREATED:20210617T192218Z
LAST-MODIFIED:20210617T192218Z
UID:1148-1625529600-1625615999@shiloh-manor.com
SUMMARY:Private Event
DESCRIPTION:Venue Leased for Private Event
URL:https://shiloh-manor.com/event/private-event-2/
LOCATION:VA
CATEGORIES:Venue Availability
END:VEVENT
BEGIN:VEVENT
DTSTART;VALUE=DATE:20210624
DTEND;VALUE=DATE:20210625
DTSTAMP:20260419T172032
CREATED:20210617T191812Z
LAST-MODIFIED:20210617T191812Z
UID:1145-1624492800-1624579199@shiloh-manor.com
SUMMARY:Private Event
DESCRIPTION:Venue Leased for Private Event
URL:https://shiloh-manor.com/event/private-event/
LOCATION:VA
CATEGORIES:Venue Availability
END:VEVENT
END:VCALENDAR