BEGIN:VCALENDAR
VERSION:2.0
PRODID:-//Shiloh Manor Farm - ECPv6.15.14//NONSGML v1.0//EN
CALSCALE:GREGORIAN
METHOD:PUBLISH
X-ORIGINAL-URL:https://shiloh-manor.com
X-WR-CALDESC:Events for Shiloh Manor Farm
REFRESH-INTERVAL;VALUE=DURATION:PT1H
X-Robots-Tag:noindex
X-PUBLISHED-TTL:PT1H
BEGIN:VTIMEZONE
TZID:UTC
BEGIN:STANDARD
TZOFFSETFROM:+0000
TZOFFSETTO:+0000
TZNAME:UTC
DTSTART:20250101T000000
END:STANDARD
END:VTIMEZONE
BEGIN:VEVENT
DTSTART;TZID=UTC:20260129T080000
DTEND;TZID=UTC:20260129T170000
DTSTAMP:20260421T190329
CREATED:20260121T152221Z
LAST-MODIFIED:20260121T152810Z
UID:3780-1769673600-1769706000@shiloh-manor.com
SUMMARY:Private Event 2
DESCRIPTION:Content is protected.
URL:https://shiloh-manor.com/event/private-event-2-2/
CATEGORIES:Private Events
END:VEVENT
BEGIN:VEVENT
DTSTART;TZID=UTC:20260131T080000
DTEND;TZID=UTC:20260131T170000
DTSTAMP:20260421T190329
CREATED:20260121T143237Z
LAST-MODIFIED:20260121T152731Z
UID:3770-1769846400-1769878800@shiloh-manor.com
SUMMARY:private event
DESCRIPTION:Content is protected.
URL:https://shiloh-manor.com/event/private-event-6/
CATEGORIES:Private Events
END:VEVENT
END:VCALENDAR